BEGIN:VCALENDAR
VERSION:2.0
PRODID:-//MotorsportReg//iCal 2.0//EN
CALSCALE:GREGORIAN
METHOD:PUBLISH
X-WR-TIMEZONE:US/Pacific
BEGIN:VEVENT
DTSTART:20220909T000000
DTEND:20220912T000000
DTSTAMP:20260422T030120Z
SUMMARY:RTR DE @Pocono SouthEast September 2022
DESCRIPTION:Details: https://rtr-pca.motorsportreg.com/events/rtr-de-pocono-double-infield-september-2022-raceway-pca-riesentoter-148751
CATEGORIES:HPDE
TRANSP:TRANSPARENT
UID:CB8F2C01-A113-F63D-811CDFA4F8D7BF51-at-MotorsportReg.com
LOCATION:Pocono Raceway\, Long Pond\, PA US
GEO:41.05225;-75.51183
URL;VALUE=URI:https://rtr-pca.motorsportreg.com/events/rtr-de-pocono-double-infield-september-2022-raceway-pca-riesentoter-148751
END:VEVENT
END:VCALENDAR